Back to Multiple platform build/check report for BioC 3.17:   simplified   long
A[B]CDEFGHIJKLMNOPQRSTUVWXYZ

This page was generated on 2023-09-22 11:37:10 -0400 (Fri, 22 Sep 2023).

HostnameOSArch (*)R versionInstalled pkgs
nebbiolo1Linux (Ubuntu 22.04.2 LTS)x86_644.3.1 (2023-06-16) -- "Beagle Scouts" 4625
palomino3Windows Server 2022 Datacenterx644.3.1 (2023-06-16 ucrt) -- "Beagle Scouts" 4378
merida1macOS 12.6.4 Montereyx86_644.3.1 (2023-06-16) -- "Beagle Scouts" 4394
Click on any hostname to see more info about the system (e.g. compilers)      (*) as reported by 'uname -p', except on Windows and Mac OS X

Package 225/2230HostnameOS / ArchINSTALLBUILDCHECKBUILD BIN
BLMA 1.24.0  (landing page)
Hung Nguyen
Snapshot Date: 2023-09-21 14:00:15 -0400 (Thu, 21 Sep 2023)
git_url: https://git.bioconductor.org/packages/BLMA
git_branch: RELEASE_3_17
git_last_commit: 9e25aac
git_last_commit_date: 2023-04-25 10:53:56 -0400 (Tue, 25 Apr 2023)
nebbiolo1Linux (Ubuntu 22.04.2 LTS) / x86_64  OK    OK    OK  UNNEEDED, same version is already published
palomino3Windows Server 2022 Datacenter / x64  OK    OK    OK    OK  UNNEEDED, same version is already published
merida1macOS 12.6.4 Monterey / x86_64  OK    OK    OK    OK  UNNEEDED, same version is already published

BUILD BIN results for BLMA on merida1


To the developers/maintainers of the BLMA package:
- Allow up to 24 hours (and sometimes 48 hours) for your latest push to git@git.bioconductor.org:packages/BLMA.git to reflect on this report. See Troubleshooting Build Report for more information.
- Use the following Renviron settings to reproduce errors and warnings.
- If 'R CMD check' started to fail recently on the Linux builder(s) over a missing dependency, add the missing dependency to 'Suggests:' in your DESCRIPTION file. See Renviron.bioc for more information.

raw results


Summary

Package: BLMA
Version: 1.24.0
Command: rm -rf BLMA.buildbin-libdir && mkdir BLMA.buildbin-libdir && /Users/biocbuild/BBS/utils/build-universal.sh BLMA_1.24.0.tar.gz /Library/Frameworks/R.framework/Resources/bin/R BLMA.buildbin-libdir
StartedAt: 2023-09-22 09:50:57 -0400 (Fri, 22 Sep 2023)
EndedAt: 2023-09-22 09:52:08 -0400 (Fri, 22 Sep 2023)
EllapsedTime: 71.4 seconds
RetCode: 0
Status:   OK  
PackageFile: BLMA_1.24.0.tgz
PackageFileSize: 2.89 MiB

Command output

##############################################################################
##############################################################################
###
### Running command:
###
###   rm -rf BLMA.buildbin-libdir && mkdir BLMA.buildbin-libdir && /Users/biocbuild/BBS/utils/build-universal.sh BLMA_1.24.0.tar.gz /Library/Frameworks/R.framework/Resources/bin/R BLMA.buildbin-libdir
###
##############################################################################
##############################################################################


>>>>>>> 
>>>>>>> INSTALLATION WITH 'R CMD INSTALL --preclean --no-multiarch --library=BLMA.buildbin-libdir BLMA_1.24.0.tar.gz'
>>>>>>> 

* installing *source* package ‘BLMA’ ...
** using staged installation
** R
** data
** inst
** byte-compile and prepare package for lazy loading
** help
*** installing help indices
** building package indices
** installing vignettes
** testing if installed package can be loaded from temporary location
** testing if installed package can be loaded from final location
** testing if installed package keeps a record of temporary installation path
* DONE (BLMA)