Back to Multiple platform build/check report for BioC 3.16
A[B]CDEFGHIJKLMNOPQRSTUVWXYZ

This page was generated on 2022-11-29 11:04:48 -0500 (Tue, 29 Nov 2022).

HostnameOSArch (*)R versionInstalled pkgs
nebbiolo2Linux (Ubuntu 20.04.5 LTS)x86_644.2.2 (2022-10-31) -- "Innocent and Trusting" 4503
palomino4Windows Server 2022 Datacenterx644.2.2 (2022-10-31 ucrt) -- "Innocent and Trusting" 4277
lconwaymacOS 12.5.1 Montereyx86_644.2.2 (2022-10-31) -- "Innocent and Trusting" 4309
Click on any hostname to see more info about the system (e.g. compilers)      (*) as reported by 'uname -p', except on Windows and Mac OS X

All results for package BANDITS


To the developers/maintainers of the BANDITS package:
- Please allow up to 24 hours (and sometimes 48 hours) for your latest push to git@git.bioconductor.org:packages/BANDITS.git to
reflect on this report. See How and When does the builder pull? When will my changes propagate? for more information.
- Make sure to use the following settings in order to reproduce any error or warning you see on this page.

raw results

Package 111/2183HostnameOS / ArchINSTALLBUILDCHECKBUILD BIN
BANDITS 1.14.0  (landing page)
Simone Tiberi
Snapshot Date: 2022-11-28 14:00:06 -0500 (Mon, 28 Nov 2022)
git_url: https://git.bioconductor.org/packages/BANDITS
git_branch: RELEASE_3_16
git_last_commit: 71e7e8b
git_last_commit_date: 2022-11-01 11:19:40 -0500 (Tue, 01 Nov 2022)
nebbiolo2Linux (Ubuntu 20.04.5 LTS) / x86_64  OK    OK    OK  UNNEEDED, same version is already published
palomino4Windows Server 2022 Datacenter / x64  OK    OK    OK    OK  UNNEEDED, same version is already published
lconwaymacOS 12.5.1 Monterey / x86_64  OK    OK    OK    OK  UNNEEDED, same version is already published

Results for Bioconductor software packages that depend directly on package BANDITS

QUICK STATSOS / ArchINSTALLBUILDCHECKBUILD BIN
nebbiolo2Linux (Ubuntu 20.04.5 LTS) / x86_64
001
001
0001
palomino4Windows Server 2022 Datacenter / x64
001
001
0001
001
lconwaymacOS 12.5.1 Monterey / x86_64
001
001
0001
001
Package 1/1HostnameOS / ArchINSTALLBUILDCHECKBUILD BIN
DifferentialRegulation 1.2.0  (landing page)
Simone Tiberi
git_last_commit: e4e27d0
git_last_commit_date: 2022-11-01 11:27:01 -0500
nebbiolo2Linux (Ubuntu 20.04.5 LTS) / x86_64  OK    OK    OK  UNNEEDED, same version is already published
palomino4Windows Server 2022 Datacenter / x64  OK    OK    OK    OK  UNNEEDED, same version is already published
lconwaymacOS 12.5.1 Monterey / x86_64  OK    OK    OK    OK  UNNEEDED, same version is already published