Index of /checkResults/devel/workflows-LATEST/seqpac/raw-results/palomino6
Name
Last modified
Size
Description
Parent Directory
-
buildsrc-out.txt
10-Jul-2024 05:30
876
buildsrc-summary.dcf
10-Jul-2024 05:30
453
install-out.txt
10-Jul-2024 05:30
1.4K
install-summary.dcf
10-Jul-2024 05:30
271