Index of /checkResults/devel/workflows-LATEST/seqpac/raw-results
Name
Last modified
Size
Description
Parent Directory
-
info.dcf
04-May-2024 03:00
258
merida1/
04-May-2024 03:00
-
nebbiolo2/
04-May-2024 03:00
-
palomino4/
04-May-2024 03:00
-