Index of /checkResults/devel/workflows-LATEST/seqpac/raw-results/merida1
Name
Last modified
Size
Description
Parent Directory
-
buildsrc-out.txt
12-Jun-2024 05:30
851
buildsrc-summary.dcf
12-Jun-2024 05:30
423
install-out.txt
12-Jun-2024 05:30
1.5K
install-summary.dcf
12-Jun-2024 05:30
266