Index of /checkResults/devel/workflows-LATEST/rnaseqGene/raw-results/palomino4
Name
Last modified
Size
Description
Parent Directory
-
install-summary.dcf
15-Jun-2024 05:30
275
buildsrc-summary.dcf
15-Jun-2024 05:30
465
buildsrc-out.txt
15-Jun-2024 05:30
926
install-out.txt
15-Jun-2024 05:30
957