Index of /checkResults/devel/workflows-LATEST/rnaseqGene/raw-results/merida1
Name
Last modified
Size
Description
Parent Directory
-
install-out.txt
12-Jun-2024 05:30
1.0K
buildsrc-out.txt
12-Jun-2024 05:30
902
buildsrc-summary.dcf
12-Jun-2024 05:30
437
install-summary.dcf
12-Jun-2024 05:30
275