Index of /checkResults/devel/workflows-LATEST/rnaseqDTU/raw-results/palomino6
Name
Last modified
Size
Description
Parent Directory
-
install-summary.dcf
10-Jul-2024 05:30
278
install-out.txt
10-Jul-2024 05:30
1.0K
buildsrc-summary.dcf
10-Jul-2024 05:30
467
buildsrc-out.txt
10-Jul-2024 05:30
855