Index of /checkResults/devel/workflows-LATEST/rnaseqDTU/raw-results/palomino4
Name
Last modified
Size
Description
Parent Directory
-
install-out.txt
15-Jun-2024 05:30
1.0K
buildsrc-out.txt
15-Jun-2024 05:30
849
buildsrc-summary.dcf
15-Jun-2024 05:30
461
install-summary.dcf
15-Jun-2024 05:30
273