Index of /checkResults/devel/workflows-LATEST/rnaseqDTU/raw-results/nebbiolo2
Name
Last modified
Size
Description
Parent Directory
-
buildsrc-out.txt
10-Jul-2024 05:30
814
buildsrc-summary.dcf
10-Jul-2024 05:30
424
install-out.txt
10-Jul-2024 05:30
1.0K
install-summary.dcf
10-Jul-2024 05:30
263