Index of /checkResults/devel/workflows-LATEST/recountWorkflow/raw-results

[ICO]NameLast modifiedSizeDescription

[DIR]Parent Directory  -  
[   ]info.dcf25-Nov-2023 04:00 292  
[DIR]merida1/25-Nov-2023 04:00 -  
[DIR]nebbiolo1/25-Nov-2023 04:00 -  
[DIR]palomino3/25-Nov-2023 04:00 -