Index of /checkResults/devel/workflows-LATEST/liftOver/raw-results/lconway
Name
Last modified
Size
Description
Parent Directory
-
install-summary.dcf
10-Jul-2024 05:30
271
buildsrc-summary.dcf
10-Jul-2024 05:30
430
buildsrc-out.txt
10-Jul-2024 05:30
854
install-out.txt
10-Jul-2024 05:30
1.0K