Index of /checkResults/devel/workflows-LATEST/liftOver/raw-results
Name
Last modified
Size
Description
Parent Directory
-
info.dcf
01-May-2024 03:00
292
merida1/
01-May-2024 03:00
-
nebbiolo2/
01-May-2024 03:00
-
palomino4/
01-May-2024 03:00
-