Index of /checkResults/devel/workflows-LATEST/cytofWorkflow/raw-results/palomino4
Name
Last modified
Size
Description
Parent Directory
-
buildsrc-out.txt
15-Jun-2024 05:30
906
buildsrc-summary.dcf
15-Jun-2024 05:30
477
install-out.txt
15-Jun-2024 05:30
1.2K
install-summary.dcf
15-Jun-2024 05:30
281