Index of /checkResults/devel/workflows-LATEST/cytofWorkflow/raw-results
Name
Last modified
Size
Description
Parent Directory
-
info.dcf
27-Mar-2024 03:00
284
lconway/
27-Mar-2024 03:00
-
merida1/
02-Mar-2024 04:00
-
nebbiolo1/
27-Mar-2024 03:00
-
palomino3/
27-Mar-2024 03:00
-