Index of /checkResults/devel/workflows-LATEST/cytofWorkflow/raw-results/nebbiolo2
Name
Last modified
Size
Description
Parent Directory
-
buildsrc-out.txt
10-Jul-2024 05:30
870
buildsrc-summary.dcf
10-Jul-2024 05:30
436
install-out.txt
10-Jul-2024 05:30
1.2K
install-summary.dcf
10-Jul-2024 05:30
271