Index of /checkResults/devel/workflows-LATEST/cytofWorkflow/raw-results/merida1
Name
Last modified
Size
Description
Parent Directory
-
buildsrc-out.txt
12-Jun-2024 05:30
880
buildsrc-summary.dcf
12-Jun-2024 05:30
446
install-out.txt
12-Jun-2024 05:30
1.2K
install-summary.dcf
12-Jun-2024 05:30
281