Index of /checkResults/devel/workflows-LATEST/TCGAWorkflow/raw-results/palomino6
Name
Last modified
Size
Description
Parent Directory
-
install-out.txt
10-Jul-2024 05:30
2.6K
buildsrc-out.txt
10-Jul-2024 05:30
870
buildsrc-summary.dcf
10-Jul-2024 05:30
480
install-summary.dcf
10-Jul-2024 05:30
284