Index of /checkResults/devel/workflows-LATEST/TCGAWorkflow/raw-results/palomino4
Name
Last modified
Size
Description
Parent Directory
-
install-summary.dcf
15-Jun-2024 05:30
279
install-out.txt
15-Jun-2024 05:30
2.6K
buildsrc-summary.dcf
12-Jun-2024 05:30
474
buildsrc-out.txt
12-Jun-2024 05:30
864