Index of /checkResults/devel/workflows-LATEST/TCGAWorkflow/raw-results/nebbiolo2
Name
Last modified
Size
Description
Parent Directory
-
install-summary.dcf
10-Jul-2024 05:30
269
install-out.txt
10-Jul-2024 05:30
2.6K
buildsrc-summary.dcf
10-Jul-2024 05:30
434
buildsrc-out.txt
10-Jul-2024 05:30
826