Index of /checkResults/devel/workflows-LATEST/GeoMxWorkflows/raw-results/palomino3
Name
Last modified
Size
Description
Parent Directory
-
buildsrc-out.txt
27-Mar-2024 03:00
873
buildsrc-summary.dcf
27-Mar-2024 03:00
479
install-out.txt
27-Mar-2024 03:00
1.0K
install-summary.dcf
27-Mar-2024 03:00
281