Index of /checkResults/devel/workflows-LATEST/GeoMxWorkflows/raw-results/nebbiolo1
Name
Last modified
Size
Description
Parent Directory
-
buildsrc-out.txt
27-Mar-2024 03:00
1.1K
buildsrc-summary.dcf
27-Mar-2024 03:00
347
install-out.txt
27-Mar-2024 03:00
968
install-summary.dcf
27-Mar-2024 03:00
272