Index of /checkResults/devel/workflows-LATEST/GeoMxWorkflows/raw-results/merida1
Name
Last modified
Size
Description
Parent Directory
-
install-summary.dcf
08-May-2024 03:00
283
install-out.txt
08-May-2024 03:00
1.0K
buildsrc-summary.dcf
08-May-2024 03:00
449
buildsrc-out.txt
08-May-2024 03:00
844