Index of /checkResults/devel/workflows-LATEST/BP4RNAseq/raw-results
Name
Last modified
Size
Description
Parent Directory
-
info.dcf
08-May-2024 03:00
267
nebbiolo2/
08-May-2024 03:00
-
palomino4/
08-May-2024 03:00
-
merida1/
08-May-2024 03:00
-