Index of /checkResults/devel/data-experiment-LATEST/yeastCC/raw-results

[ICO]NameLast modifiedSizeDescription

[DIR]Parent Directory  -  
[DIR]nebbiolo2/04-Oct-2023 03:51 -  
[   ]info.dcf04-Oct-2023 03:51 273