![]() | Name | Last modified | Size | Description |
---|---|---|---|---|
![]() | Parent Directory | - | ||
![]() | buildsrc-out.txt | 04-Oct-2023 03:51 | 841 | |
![]() | buildsrc-summary.dcf | 04-Oct-2023 03:51 | 416 | |
![]() | checksrc-out.txt | 04-Oct-2023 03:51 | 3.6K | |
![]() | checksrc-summary.dcf | 04-Oct-2023 03:51 | 419 | |
![]() | install-out.txt | 04-Oct-2023 03:51 | 937 | |
![]() | install-summary.dcf | 04-Oct-2023 03:51 | 258 | |