Name | Last modified | Size | Description | |
---|---|---|---|---|
Parent Directory | - | |||
buildsrc-out.txt | 26-Jul-2024 03:51 | 770 | ||
buildsrc-summary.dcf | 26-Jul-2024 03:51 | 443 | ||
checksrc-out.txt | 26-Jul-2024 03:51 | 3.0K | ||
checksrc-summary.dcf | 26-Jul-2024 03:51 | 449 | ||
install-out.txt | 26-Jul-2024 03:51 | 955 | ||
install-summary.dcf | 26-Jul-2024 03:51 | 276 | ||