Index of /checkResults/devel/data-experiment-LATEST/orthosData/raw-results
Name
Last modified
Size
Description
Parent Directory
-
info.dcf
28-Jun-2024 03:51
286
nebbiolo2/
28-Jun-2024 03:51
-