Index of /checkResults/devel/data-experiment-LATEST/mtbls2/raw-results
Name
Last modified
Size
Description
Parent Directory
-
nebbiolo2/
03-May-2024 03:51
-
info.dcf
03-May-2024 03:51
266