Index of /checkResults/devel/data-experiment-LATEST/mammaPrintData/raw-results/nebbiolo2

[ICO]NameLast modifiedSizeDescription

[DIR]Parent Directory  -  
[TXT]buildsrc-out.txt05-Aug-2022 03:50 1.0K 
[   ]buildsrc-summary.dcf05-Aug-2022 03:50 438  
[TXT]checksrc-out.txt05-Aug-2022 03:50 3.0K 
[   ]checksrc-summary.dcf05-Aug-2022 03:50 451  
[TXT]install-out.txt05-Aug-2022 03:50 918  
[   ]install-summary.dcf05-Aug-2022 03:50 272