Back to Build/check report for BioC 3.17 experimental data
A[B]CDEFGHIJKLMNOPQRSTUVWXYZ

This page was generated on 2023-03-30 14:51:10 -0400 (Thu, 30 Mar 2023).

HostnameOSArch (*)R versionInstalled pkgs
nebbiolo1Linux (Ubuntu 22.04.1 LTS)x86_64R Under development (unstable) (2023-03-16 r83996) -- "Unsuffered Consequences" 4547
Click on any hostname to see more info about the system (e.g. compilers)      (*) as reported by 'uname -p', except on Windows and Mac OS X

BUILD results for brgedata on nebbiolo1


To the developers/maintainers of the brgedata package:
Use the following Renviron settings to reproduce errors and warnings.

Note: If "R CMD check" recently failed on the Linux builder over a missing dependency, add the missing dependency to "Suggests" in your DESCRIPTION file. See the Renviron.bioc for details.

raw results

Package 42/417HostnameOS / ArchINSTALLBUILDCHECK
brgedata 1.21.0  (landing page)
Dolors Pelegri-Siso
Snapshot Date: 2023-03-30 07:30:02 -0400 (Thu, 30 Mar 2023)
git_url: https://git.bioconductor.org/packages/brgedata
git_branch: devel
git_last_commit: 0faa3ec
git_last_commit_date: 2022-11-01 11:26:12 -0400 (Tue, 01 Nov 2022)
nebbiolo1Linux (Ubuntu 22.04.1 LTS) / x86_64  OK    OK    ERROR  

Summary

Package: brgedata
Version: 1.21.0
Command: /home/biocbuild/bbs-3.17-bioc/R/bin/R CMD build --keep-empty-dirs --no-resave-data brgedata
StartedAt: 2023-03-30 10:14:37 -0400 (Thu, 30 Mar 2023)
EndedAt: 2023-03-30 10:18:47 -0400 (Thu, 30 Mar 2023)
EllapsedTime: 249.9 seconds
RetCode: 0
Status:   OK  
PackageFile: brgedata_1.21.0.tar.gz
PackageFileSize: 297 MiB

Command output

##############################################################################
##############################################################################
###
### Running command:
###
###   /home/biocbuild/bbs-3.17-bioc/R/bin/R CMD build --keep-empty-dirs --no-resave-data brgedata
###
##############################################################################
##############################################################################


* checking for file ‘brgedata/DESCRIPTION’ ... OK
* preparing ‘brgedata’:
* checking DESCRIPTION meta-information ... OK
* installing the package to build vignettes
* creating vignettes ... OK
* checking for LF line-endings in source and make files and shell scripts
* checking for empty or unneeded directories
  NB: this package now depends on R (>= 3.5.0)
  WARNING: Added dependency on R >= 3.5.0 because serialized objects in
  serialize/load version 3 cannot be read in older versions of R.
  File(s) containing such objects:
    ‘brgedata/data/brge_expo.rda’ ‘brgedata/data/brge_gexp.rda’
* building ‘brgedata_1.21.0.tar.gz’