Index of /checkResults/devel/data-experiment-LATEST/adductData/raw-results

[ICO]NameLast modifiedSizeDescription

[DIR]Parent Directory  -  
[   ]info.dcf24-May-2024 03:51 270  
[DIR]nebbiolo2/24-May-2024 03:51 -