Index of /checkResults/devel/data-experiment-LATEST/NCIgraphData/raw-results/nebbiolo2

[ICO]NameLast modifiedSizeDescription

[DIR]Parent Directory  -  
[TXT]buildsrc-out.txt14-Jun-2024 03:51 754  
[   ]buildsrc-summary.dcf14-Jun-2024 03:51 431  
[TXT]checksrc-out.txt14-Jun-2024 03:51 3.2K 
[   ]checksrc-summary.dcf14-Jun-2024 03:51 439  
[TXT]install-out.txt14-Jun-2024 03:51 920  
[   ]install-summary.dcf14-Jun-2024 03:51 268