Index of /checkResults/devel/data-experiment-LATEST/NCIgraphData/raw-results/nebbiolo2

[ICO]NameLast modifiedSizeDescription

[DIR]Parent Directory  -  
[   ]install-summary.dcf19-Jul-2024 03:51 268  
[TXT]install-out.txt19-Jul-2024 03:51 920  
[   ]checksrc-summary.dcf19-Jul-2024 03:51 439  
[TXT]checksrc-out.txt19-Jul-2024 03:51 3.2K 
[   ]buildsrc-summary.dcf19-Jul-2024 03:51 431  
[TXT]buildsrc-out.txt19-Jul-2024 03:51 754