Index of /checkResults/devel/data-experiment-LATEST/NCIgraphData/raw-results

[ICO]NameLast modifiedSizeDescription

[DIR]Parent Directory  -  
[DIR]nebbiolo2/24-Jul-2024 03:51 -  
[   ]info.dcf24-Jul-2024 03:51 278