Index of /checkResults/devel/data-experiment-LATEST/MEDIPSData/raw-results

[ICO]NameLast modifiedSizeDescription

[DIR]Parent Directory  -  
[   ]info.dcf14-Jun-2024 03:51 266  
[DIR]nebbiolo2/14-Jun-2024 03:51 -