Index of /checkResults/devel/data-experiment-LATEST/MEDIPSData/raw-results/nebbiolo2

[ICO]NameLast modifiedSizeDescription

[DIR]Parent Directory  -  
[TXT]buildsrc-out.txt21-Jun-2024 03:51 1.1K 
[   ]buildsrc-summary.dcf21-Jun-2024 03:51 426  
[TXT]checksrc-out.txt21-Jun-2024 03:51 4.2K 
[   ]checksrc-summary.dcf21-Jun-2024 03:51 431  
[TXT]install-out.txt21-Jun-2024 03:51 887  
[   ]install-summary.dcf21-Jun-2024 03:51 264