Name | Last modified | Size | Description | |
---|---|---|---|---|
Parent Directory | - | |||
install-summary.dcf | 26-Jul-2024 03:51 | 257 | ||
install-out.txt | 26-Jul-2024 03:51 | 902 | ||
checksrc-summary.dcf | 26-Jul-2024 03:51 | 415 | ||
checksrc-out.txt | 26-Jul-2024 03:51 | 4.0K | ||
buildsrc-summary.dcf | 26-Jul-2024 03:51 | 413 | ||
buildsrc-out.txt | 26-Jul-2024 03:51 | 730 | ||