Index of /checkResults/devel/data-experiment-LATEST/KOdata/raw-results

[ICO]NameLast modifiedSizeDescription

[DIR]Parent Directory  -  
[   ]info.dcf12-Jul-2024 03:51 261  
[DIR]nebbiolo2/12-Jul-2024 03:51 -