Back to Build/check report for BioC 3.19 experimental data
ABCDE[F]GHIJKLMNOPQRSTUVWXYZ

This page was generated on 2024-03-26 14:51:26 -0400 (Tue, 26 Mar 2024).

HostnameOSArch (*)R versionInstalled pkgs
nebbiolo1Linux (Ubuntu 22.04.3 LTS)x86_64R Under development (unstable) (2024-03-18 r86148) -- "Unsuffered Consequences" 4698
Click on any hostname to see more info about the system (e.g. compilers)      (*) as reported by 'uname -p', except on Windows and Mac OS X

Package 133/425HostnameOS / ArchINSTALLBUILDCHECK
FlowSorted.CordBloodNorway.450k 1.29.0  (landing page)
kristina gervin
Snapshot Date: 2024-03-26 07:30:03 -0400 (Tue, 26 Mar 2024)
git_url: https://git.bioconductor.org/packages/FlowSorted.CordBloodNorway.450k
git_branch: devel
git_last_commit: 9d21a2f
git_last_commit_date: 2023-10-24 09:16:26 -0400 (Tue, 24 Oct 2023)
nebbiolo1Linux (Ubuntu 22.04.3 LTS) / x86_64  OK    OK    WARNINGS  UNNEEDED, same version is already published

BUILD results for FlowSorted.CordBloodNorway.450k on nebbiolo1


To the developers/maintainers of the FlowSorted.CordBloodNorway.450k package:
- Use the following Renviron settings to reproduce errors and warnings.
- If 'R CMD check' started to fail recently on the Linux builder(s) over a missing dependency, add the missing dependency to 'Suggests:' in your DESCRIPTION file. See Renviron.bioc for more information.

raw results


Summary

Package: FlowSorted.CordBloodNorway.450k
Version: 1.29.0
Command: /home/biocbuild/bbs-3.19-bioc/R/bin/R CMD build --keep-empty-dirs --no-resave-data FlowSorted.CordBloodNorway.450k
StartedAt: 2024-03-26 10:26:35 -0400 (Tue, 26 Mar 2024)
EndedAt: 2024-03-26 10:26:47 -0400 (Tue, 26 Mar 2024)
EllapsedTime: 12.0 seconds
RetCode: 0
Status:   OK  
PackageFile: FlowSorted.CordBloodNorway.450k_1.29.0.tar.gz
PackageFileSize: 165.5 MiB

Command output

##############################################################################
##############################################################################
###
### Running command:
###
###   /home/biocbuild/bbs-3.19-bioc/R/bin/R CMD build --keep-empty-dirs --no-resave-data FlowSorted.CordBloodNorway.450k
###
##############################################################################
##############################################################################


* checking for file ‘FlowSorted.CordBloodNorway.450k/DESCRIPTION’ ... OK
* preparing ‘FlowSorted.CordBloodNorway.450k’:
* checking DESCRIPTION meta-information ... OK
* checking for LF line-endings in source and make files and shell scripts
* checking for empty or unneeded directories
  NB: this package now depends on R (>= 3.5.0)
  WARNING: Added dependency on R >= 3.5.0 because serialized objects in
  serialize/load version 3 cannot be read in older versions of R.
  File(s) containing such objects:
    ‘FlowSorted.CordBloodNorway.450k/data/FlowSorted.CordBloodNorway.450k.rda’
* building ‘FlowSorted.CordBloodNorway.450k_1.29.0.tar.gz’