Index of /checkResults/devel/data-experiment-LATEST/DLBCL/raw-results
Name
Last modified
Size
Description
Parent Directory
-
info.dcf
03-May-2024 03:51
286
nebbiolo2/
03-May-2024 03:51
-