Index of /checkResults/devel/data-experiment-LATEST/DLBCL/raw-results
Name
Last modified
Size
Description
Parent Directory
-
nebbiolo2/
22-May-2024 03:51
-
info.dcf
22-May-2024 03:51
286