Index of /checkResults/devel/data-experiment-LATEST/CopyhelpeR/raw-results
Name
Last modified
Size
Description
Parent Directory
-
info.dcf
14-Jun-2024 03:51
271
nebbiolo2/
14-Jun-2024 03:51
-