Back to Build/check report for BioC 3.19 experimental data
AB[C]DEFGHIJKLMNOPQRSTUVWXYZ

This page was generated on 2024-02-27 14:51:17 -0500 (Tue, 27 Feb 2024).

HostnameOSArch (*)R versionInstalled pkgs
nebbiolo1Linux (Ubuntu 22.04.3 LTS)x86_64R Under development (unstable) (2024-01-16 r85808) -- "Unsuffered Consequences" 4672
Click on any hostname to see more info about the system (e.g. compilers)      (*) as reported by 'uname -p', except on Windows and Mac OS X

Package 72/423HostnameOS / ArchINSTALLBUILDCHECK
CoSIAdata 1.3.0  (landing page)
Amanda D. Clark
Snapshot Date: 2024-02-27 07:30:02 -0500 (Tue, 27 Feb 2024)
git_url: https://git.bioconductor.org/packages/CoSIAdata
git_branch: devel
git_last_commit: e569824
git_last_commit_date: 2023-10-24 09:24:26 -0500 (Tue, 24 Oct 2023)
nebbiolo1Linux (Ubuntu 22.04.3 LTS) / x86_64  OK    OK    OK  UNNEEDED, same version is already published

BUILD results for CoSIAdata on nebbiolo1


To the developers/maintainers of the CoSIAdata package:
- Use the following Renviron settings to reproduce errors and warnings.
- If 'R CMD check' started to fail recently on the Linux builder(s) over a missing dependency, add the missing dependency to 'Suggests:' in your DESCRIPTION file. See Renviron.bioc for more information.

raw results


Summary

Package: CoSIAdata
Version: 1.3.0
Command: /home/biocbuild/bbs-3.19-bioc/R/bin/R CMD build --keep-empty-dirs --no-resave-data CoSIAdata
StartedAt: 2024-02-27 10:17:46 -0500 (Tue, 27 Feb 2024)
EndedAt: 2024-02-27 10:18:10 -0500 (Tue, 27 Feb 2024)
EllapsedTime: 24.8 seconds
RetCode: 0
Status:   OK  
PackageFile: CoSIAdata_1.3.0.tar.gz
PackageFileSize: 296.7 KiB

Command output

##############################################################################
##############################################################################
###
### Running command:
###
###   /home/biocbuild/bbs-3.19-bioc/R/bin/R CMD build --keep-empty-dirs --no-resave-data CoSIAdata
###
##############################################################################
##############################################################################


* checking for file ‘CoSIAdata/DESCRIPTION’ ... OK
* preparing ‘CoSIAdata’:
* checking DESCRIPTION meta-information ... OK
* installing the package to build vignettes
* creating vignettes ... OK
* checking for LF line-endings in source and make files and shell scripts
* checking for empty or unneeded directories
* building ‘CoSIAdata_1.3.0.tar.gz’