Index of /checkResults/devel/bioc-LATEST/xcms/raw-results/merida1
Name
Last modified
Size
Description
Parent Directory
-
buildsrc-out.txt
04-May-2024 00:39
1.7K
buildsrc-summary.dcf
04-May-2024 00:39
337
install-out.txt
04-May-2024 00:39
6.8K
install-summary.dcf
04-May-2024 00:39
263