Index of /checkResults/devel/bioc-LATEST/wateRmelon/raw-results

[ICO]NameLast modifiedSizeDescription

[DIR]Parent Directory  -  
[   ]info.dcf02-Jun-2023 00:32 270  
[DIR]lconway/02-Jun-2023 00:32 -  
[DIR]nebbiolo2/02-Jun-2023 00:31 -  
[DIR]palomino4/02-Jun-2023 00:31 -