Name | Last modified | Size | Description | |
---|---|---|---|---|
Parent Directory | - | |||
buildbin-out.txt | 29-Mar-2024 00:40 | 1.6K | ||
buildbin-summary.dcf | 29-Mar-2024 00:40 | 545 | ||
buildsrc-out.txt | 29-Mar-2024 00:40 | 890 | ||
buildsrc-summary.dcf | 29-Mar-2024 00:40 | 435 | ||
checksrc-out.txt | 29-Mar-2024 00:40 | 30K | ||
checksrc-summary.dcf | 29-Mar-2024 00:40 | 460 | ||
install-out.txt | 29-Mar-2024 00:40 | 1.4K | ||
install-summary.dcf | 29-Mar-2024 00:40 | 274 | ||