Index of /checkResults/devel/bioc-LATEST/vsn/raw-results

[ICO]NameLast modifiedSizeDescription

[DIR]Parent Directory  -  
[DIR]lconway/18-May-2022 00:09 -  
[DIR]nebbiolo2/18-May-2022 00:06 -  
[DIR]palomino4/18-May-2022 00:07 -  
[   ]info.dcf18-May-2022 00:09 262