Index of /checkResults/devel/bioc-LATEST/trigger/raw-results
Name
Last modified
Size
Description
Parent Directory
-
info.dcf
02-Jul-2022 00:08
268
palomino4/
02-Jul-2022 00:07
-
nebbiolo2/
02-Jul-2022 00:05
-
lconway/
02-Jul-2022 00:08
-