![]() | Name | Last modified | Size | Description |
---|---|---|---|---|
![]() | Parent Directory | - | ||
![]() | buildbin-out.txt | 02-Jul-2022 00:08 | 3.2K | |
![]() | buildbin-summary.dcf | 02-Jul-2022 00:08 | 528 | |
![]() | buildsrc-out.txt | 02-Jul-2022 00:08 | 909 | |
![]() | buildsrc-summary.dcf | 02-Jul-2022 00:08 | 428 | |
![]() | checksrc-out.txt | 02-Jul-2022 00:08 | 3.8K | |
![]() | checksrc-summary.dcf | 02-Jul-2022 00:08 | 444 | |
![]() | install-out.txt | 02-Jul-2022 00:08 | 2.4K | |
![]() | install-summary.dcf | 02-Jul-2022 00:08 | 269 | |